BEGIN:VCALENDAR
VERSION:2.0
PRODID:-//Sabre//Sabre VObject 4.5.8//EN
CALSCALE:GREGORIAN
BEGIN:VEVENT
UID:sabre-vobject-f1a9a656-9ae9-43b2-a7b7-8bde1279f55f
DTSTAMP:20260421T120026Z
SUMMARY:Tatort Hinterkaifeck mit Fackel - Öffentliche Führung
DESCRIPTION:https://regioningolstadt.com/tatort-hinterkaifeck-mit-fackel-oe
 ffentliche-fuehrung_id41871
DTSTART;TZID=Europe/Berlin:20251207T174500
DURATION:PT30M
LOCATION:Hinterkaifeck\, \, 86579  Waidhofen
END:VEVENT
END:VCALENDAR
