BEGIN:VCALENDAR
VERSION:2.0
PRODID:-//Sabre//Sabre VObject 4.5.8//EN
CALSCALE:GREGORIAN
BEGIN:VEVENT
UID:sabre-vobject-010c1cdf-46ee-43f7-ab5d-5b0be0d81fd8
DTSTAMP:20260421T180119Z
SUMMARY:Tatort Hinterkaifeck mit Fackel - Öffentliche Führung
DESCRIPTION:https://regioningolstadt.com/tatort-hinterkaifeck-mit-fackel-oe
 ffentliche-fuehrung_id41870
DTSTART;TZID=Europe/Berlin:20251130T174500
DURATION:PT30M
LOCATION:Hinterkaifeck\, \, 86579  Waidhofen
END:VEVENT
END:VCALENDAR
