BEGIN:VCALENDAR
VERSION:2.0
PRODID:-//Sabre//Sabre VObject 4.5.8//EN
CALSCALE:GREGORIAN
BEGIN:VEVENT
UID:sabre-vobject-ccb1f8e5-860e-4d08-b5fa-ed5b1e46e67b
DTSTAMP:20260421T234945Z
SUMMARY:Stadtführung Schrobenhausen mit Altem Friedhof - Öffentliche Füh
 rung
DESCRIPTION:https://regioningolstadt.com/stadtfuehrung-schrobenhausen-mit-a
 ltem-friedhof-oeffentliche-fuehrung_id41869
DTSTART;TZID=Europe/Berlin:20251116T134500
DURATION:PT30M
LOCATION:86529 Schrobenhausen\, Busbahnhof\, Bürgermeister-Stocker-Ring 47
 \, 86529 Schrobenhausen
END:VEVENT
END:VCALENDAR
