BEGIN:VCALENDAR
VERSION:2.0
PRODID:-//Sabre//Sabre VObject 4.5.8//EN
CALSCALE:GREGORIAN
BEGIN:VEVENT
UID:sabre-vobject-0dc765d9-5411-481c-b0d7-b351c9124f60
DTSTAMP:20260422T012447Z
SUMMARY:Tatort Hinterkaifeck mit Fackel - Öffentliche Führung
DESCRIPTION:https://regioningolstadt.com/tatort-hinterkaifeck-mit-fackel-oe
 ffentliche-fuehrung_id41868
DTSTART;TZID=Europe/Berlin:20251109T174500
DURATION:PT30M
LOCATION:Hinterkaifeck\, \, 86579  Waidhofen
END:VEVENT
END:VCALENDAR
