BEGIN:VCALENDAR
VERSION:2.0
PRODID:-//Sabre//Sabre VObject 4.5.8//EN
CALSCALE:GREGORIAN
BEGIN:VEVENT
UID:sabre-vobject-9e04f53f-3e2d-46be-b960-030865f81f6b
DTSTAMP:20260422T060348Z
SUMMARY:Tatort Hinterkaifeck mit Fackel - Öffentliche Führung
DESCRIPTION:https://regioningolstadt.com/tatort-hinterkaifeck-mit-fackel-oe
 ffentliche-fuehrung_id41867
DTSTART;TZID=Europe/Berlin:20251026T174500
DURATION:PT30M
LOCATION:Hinterkaifeck\, \, 86579  Waidhofen
END:VEVENT
END:VCALENDAR
