BEGIN:VCALENDAR
VERSION:2.0
PRODID:-//Sabre//Sabre VObject 4.5.8//EN
CALSCALE:GREGORIAN
BEGIN:VEVENT
UID:sabre-vobject-78cd23bf-ad75-4c95-be86-7c6f672abbc3
DTSTAMP:20260422T191545Z
SUMMARY:Tatort Hinterkaifeck mit Fackel - Öffentliche Führung
DESCRIPTION:https://regioningolstadt.com/tatort-hinterkaifeck-mit-fackel-oe
 ffentliche-fuehrung_id41865
DTSTART;TZID=Europe/Berlin:20251005T174500
DURATION:PT30M
LOCATION:Hinterkaifeck\, \, 86579  Waidhofen
END:VEVENT
END:VCALENDAR
