BEGIN:VCALENDAR
VERSION:2.0
PRODID:-//Sabre//Sabre VObject 4.5.8//EN
CALSCALE:GREGORIAN
BEGIN:VEVENT
UID:sabre-vobject-a0d8e82d-12df-440a-a3ed-8fdaf3d22b8f
DTSTAMP:20260423T041834Z
SUMMARY:Stadtführung Schrobenhausen mit Altem Friedhof - Öffentliche Füh
 rung
DESCRIPTION:https://regioningolstadt.com/stadtfuehrung-schrobenhausen-mit-a
 ltem-friedhof-oeffentliche-fuehrung_id41863
DTSTART;TZID=Europe/Berlin:20250921T134500
DURATION:PT30M
LOCATION:86529 Schrobenhausen\, Busbahnhof\, Bürgermeister-Stocker-Ring 47
 \, 86529 Schrobenhausen
END:VEVENT
END:VCALENDAR
