BEGIN:VCALENDAR
VERSION:2.0
PRODID:-//Sabre//Sabre VObject 4.5.8//EN
CALSCALE:GREGORIAN
BEGIN:VEVENT
UID:sabre-vobject-4773ecc1-796e-43e8-8719-31b2548fc498
DTSTAMP:20260420T054851Z
SUMMARY:Astrofotografie- Die Kunst des Weltraums
DESCRIPTION:https://regioningolstadt.com/astrofotografie-die-kunst-des-welt
 raums_id41847
DTSTART;TZID=Europe/Berlin:20250518T000000
DTEND;TZID=Europe/Berlin:20250912T000000
LOCATION:Neue Galerie\, das MO\, Bergbräustraße 7\, 85049 Ingolstadt
END:VEVENT
END:VCALENDAR
