BEGIN:VCALENDAR
VERSION:2.0
PRODID:-//Sabre//Sabre VObject 4.5.8//EN
CALSCALE:GREGORIAN
BEGIN:VEVENT
UID:sabre-vobject-66f2efd6-ca59-40af-aef3-ca67586fbb0e
DTSTAMP:20260422T215036Z
SUMMARY:KI in der Kiste  Interaktive Ausstellung
DESCRIPTION:https://regioningolstadt.com/ki-in-der-kiste-interaktive-ausste
 llung_id41846
DTSTART;TZID=Europe/Berlin:20250517T150000
DTEND;TZID=Europe/Berlin:20250622T180000
LOCATION:Wissenschaftsforum am Zukunftscampus (Georgianum Ingolstadt)\, Hoh
 e-Schul-Straße 5 (Eingang Goldknopfgasse)\, 85049 Ingolstadt
END:VEVENT
END:VCALENDAR
