BEGIN:VCALENDAR
VERSION:2.0
PRODID:-//Sabre//Sabre VObject 4.5.8//EN
CALSCALE:GREGORIAN
BEGIN:VEVENT
UID:sabre-vobject-0b36b38f-56a1-4458-ba8c-81c0df4cf5dd
DTSTAMP:20260422T071156Z
SUMMARY:Tanztee
DESCRIPTION:https://regioningolstadt.com/tanztee_id41845
DTSTART;TZID=Europe/Berlin:20250510T150000
DTEND;TZID=Europe/Berlin:20250510T200000
LOCATION:Sportgaststätte Bergheim\, Fährenweg 55\, 86673 Bergheim
END:VEVENT
END:VCALENDAR
