BEGIN:VCALENDAR
VERSION:2.0
PRODID:-//Sabre//Sabre VObject 4.5.8//EN
CALSCALE:GREGORIAN
BEGIN:VEVENT
UID:sabre-vobject-ece41c4e-3143-4ef2-a971-5332dead0648
DTSTAMP:20260422T231608Z
SUMMARY:Festival der Musik
DESCRIPTION:https://regioningolstadt.com/festival-der-musik_id38925
DTSTART;TZID=Europe/Berlin:20250517T143000
DTEND;TZID=Europe/Berlin:20250517T203000
LOCATION:Bauerngerätemuseum\, Probststraße 13\, 85049 Ingolstadt
END:VEVENT
END:VCALENDAR
