BEGIN:VCALENDAR
VERSION:2.0
PRODID:-//Sabre//Sabre VObject 4.5.8//EN
CALSCALE:GREGORIAN
BEGIN:VEVENT
UID:sabre-vobject-9f6b64f1-bbe4-4b7f-9afa-796a66c699ab
DTSTAMP:20260420T005602Z
SUMMARY:Internationaler Museumstag - Eintritt frei!
DESCRIPTION:https://regioningolstadt.com/internationaler-museumstag-eintrit
 t-frei_id38907
DTSTART;TZID=Europe/Berlin:20250518T100000
DTEND;TZID=Europe/Berlin:20250518T170000
LOCATION:Deutsches Medizinhistorisches Museum\, Anatomiestraße 18 – 20\,
  85049 Ingolstadt
END:VEVENT
END:VCALENDAR
