BEGIN:VCALENDAR
VERSION:2.0
PRODID:-//Sabre//Sabre VObject 4.5.8//EN
CALSCALE:GREGORIAN
BEGIN:VEVENT
UID:sabre-vobject-512918b3-f745-4887-b36c-e6334049fae9
DTSTAMP:20260423T114317Z
SUMMARY:After-Work-Tandemführung durch die Jahresausstellung: Ansichtssach
 e. Menschliche Präparate im Museum
DESCRIPTION:https://regioningolstadt.com/after-work-tandemfuehrung-durch-di
 e-jahresausstellung-ansichtssache-menschliche-praeparate-im-museum_id38903
DTSTART;TZID=Europe/Berlin:20250516T170000
DTEND;TZID=Europe/Berlin:20250516T183000
LOCATION:Deutsches Medizinhistorisches Museum\, Anatomiestraße 18 – 20\,
  85049 Ingolstadt
END:VEVENT
END:VCALENDAR
