BEGIN:VCALENDAR
VERSION:2.0
PRODID:-//Sabre//Sabre VObject 4.5.8//EN
CALSCALE:GREGORIAN
BEGIN:VEVENT
UID:sabre-vobject-646396d3-cca6-43f6-b886-4b7e540c1c66
DTSTAMP:20260423T150020Z
SUMMARY:Die Kunst des Redens
DESCRIPTION:https://regioningolstadt.com/die-kunst-des-redens_id38894
DTSTART;TZID=Europe/Berlin:20250514T170000
DTEND;TZID=Europe/Berlin:20250514T193000
LOCATION:Bürgerhaus Neuburger Kasten\, II. OG\, Seminarraum 24\, Fechtgass
 e 6\, 85049 Ingolstadt
END:VEVENT
END:VCALENDAR
