BEGIN:VCALENDAR
VERSION:2.0
PRODID:-//Sabre//Sabre VObject 4.5.8//EN
CALSCALE:GREGORIAN
BEGIN:VEVENT
UID:sabre-vobject-2226e0ee-4cb0-4854-a0a9-484adcfc1c2d
DTSTAMP:20260422T054048Z
SUMMARY:Segen für Babys
DESCRIPTION:https://regioningolstadt.com/segen-fuer-babys_id38879
DTSTART;TZID=Europe/Berlin:20250510T150000
DTEND;TZID=Europe/Berlin:20250510T173000
LOCATION:Evang.-Luth. Kirchengemeinde Friedrichshofen\, Buchenweg 4\, 85049
  Ingolstadt
END:VEVENT
END:VCALENDAR
