BEGIN:VCALENDAR
VERSION:2.0
PRODID:-//Sabre//Sabre VObject 4.5.8//EN
CALSCALE:GREGORIAN
BEGIN:VEVENT
UID:sabre-vobject-354aabb9-e9cd-4798-8072-8e272bbdd932
DTSTAMP:20260421T145540Z
SUMMARY:Family Magic Show mit Sven Catello
DESCRIPTION:https://regioningolstadt.com/family-magic-show-mit-sven-catello
 _id38872
DTSTART;TZID=Europe/Berlin:20260104T160000
DTEND;TZID=Europe/Berlin:20260104T170000
LOCATION:Altstadttheater\, Kanalstraße 1 a\, 85049 Ingolstadt
END:VEVENT
END:VCALENDAR
