BEGIN:VCALENDAR
VERSION:2.0
PRODID:-//Sabre//Sabre VObject 4.5.8//EN
CALSCALE:GREGORIAN
BEGIN:VEVENT
UID:sabre-vobject-012c2002-51a2-4a04-b398-da3588bb6774
DTSTAMP:20260421T174423Z
SUMMARY:Family Magic Show mit Sven Catello
DESCRIPTION:https://regioningolstadt.com/family-magic-show-mit-sven-catello
 _id38871
DTSTART;TZID=Europe/Berlin:20260104T140000
DTEND;TZID=Europe/Berlin:20260104T150000
LOCATION:Altstadttheater\, Kanalstraße 1 a\, 85049 Ingolstadt
END:VEVENT
END:VCALENDAR
