BEGIN:VCALENDAR
VERSION:2.0
PRODID:-//Sabre//Sabre VObject 4.5.8//EN
CALSCALE:GREGORIAN
BEGIN:VEVENT
UID:sabre-vobject-32de3b31-5359-4d5f-9e16-3c39a59f3495
DTSTAMP:20260421T102115Z
SUMMARY:echo
DESCRIPTION:https://regioningolstadt.com/echo_id38869
DTSTART;TZID=Europe/Berlin:20250509T120000
DTEND;TZID=Europe/Berlin:20250615T190000
LOCATION:Städtische Galerie im Theater Ingolstadt\, Schloßlände 1\, 8504
 9 Ingolstadt
END:VEVENT
END:VCALENDAR
