BEGIN:VCALENDAR
VERSION:2.0
PRODID:-//Sabre//Sabre VObject 4.5.8//EN
CALSCALE:GREGORIAN
BEGIN:VEVENT
UID:sabre-vobject-0a5a35a8-b027-4ab5-902e-c043a4775f3e
DTSTAMP:20260425T154048Z
SUMMARY:Marco Vargas & Chloé Brûlé (Bühnen-Flamenco) Cuando uno quiere 
 y el otro no
DESCRIPTION:https://regioningolstadt.com/marco-vargas-chloe-brule-buehnen-f
 lamenco-cuando-uno-quiere-y-el-otro-no_id38861
DTSTART;TZID=Europe/Berlin:20251025T200000
DURATION:PT30M
LOCATION:Kulturzentrum neun\, Elisabethstraße 9 a\, 85051 Ingolstadt
END:VEVENT
END:VCALENDAR
