BEGIN:VCALENDAR
VERSION:2.0
PRODID:-//Sabre//Sabre VObject 4.5.8//EN
CALSCALE:GREGORIAN
BEGIN:VEVENT
UID:sabre-vobject-cfed996c-4d7e-402a-b391-891bc1ca55f2
DTSTAMP:20260425T183334Z
SUMMARY:1-tägiger Flamenco-Workshop mit Sabine Schäffer-Leurpendeur
DESCRIPTION:https://regioningolstadt.com/1-taegiger-flamenco-workshop-mit-s
 abine-schaeffer-leurpendeur_id38860
DTSTART;TZID=Europe/Berlin:20251025T140000
DTEND;TZID=Europe/Berlin:20251025T160000
LOCATION:Tanz- und Kulturwerkstatt\, Manggasse 8\, 85049 Ingolstadt
END:VEVENT
END:VCALENDAR
