BEGIN:VCALENDAR
VERSION:2.0
PRODID:-//Sabre//Sabre VObject 4.5.8//EN
CALSCALE:GREGORIAN
BEGIN:VEVENT
UID:sabre-vobject-530131c4-2721-4b6c-afc4-675356f1d1c6
DTSTAMP:20260425T201451Z
SUMMARY:1-tägiger Flamenco-Workshop mit Aurora Gonzalez und Jesus Helmo (j
 eweils zur Hälfte)
DESCRIPTION:https://regioningolstadt.com/1-taegiger-flamenco-workshop-mit-a
 urora-gonzalez-und-jesus-helmo-jeweils-zur-haelfte_id38859
DTSTART;TZID=Europe/Berlin:20251025T103000
DTEND;TZID=Europe/Berlin:20251025T130000
LOCATION:Tanz- und Kulturwerkstatt\, Manggasse 8\, 85049 Ingolstadt
END:VEVENT
END:VCALENDAR
