BEGIN:VCALENDAR
VERSION:2.0
PRODID:-//Sabre//Sabre VObject 4.5.8//EN
CALSCALE:GREGORIAN
BEGIN:VEVENT
UID:sabre-vobject-39a584da-7771-47af-963f-6a45af3f1c81
DTSTAMP:20260424T004413Z
SUMMARY:Drummers Night
DESCRIPTION:https://regioningolstadt.com/drummers-night_id38780
DTSTART;TZID=Europe/Berlin:20251111T200000
DURATION:PT30M
LOCATION:Kulturzentrum neun\, Elisabethstraße 9 a\, 85051 Ingolstadt
END:VEVENT
END:VCALENDAR
