BEGIN:VCALENDAR
VERSION:2.0
PRODID:-//Sabre//Sabre VObject 4.5.8//EN
CALSCALE:GREGORIAN
BEGIN:VEVENT
UID:sabre-vobject-5e1d2a79-bc89-43f9-8d29-ce19d888d695
DTSTAMP:20260424T155800Z
SUMMARY:Grand Concert mit Elvis Costello und der WDR Big Band
DESCRIPTION:https://regioningolstadt.com/grand-concert-mit-elvis-costello-u
 nd-der-wdr-big-band_id38779
DTSTART;TZID=Europe/Berlin:20251107T200000
DURATION:PT30M
LOCATION:Festsaal des Stadttheaters Ingolstadt\, Schloßlände 1\, 85049 In
 golstadt
END:VEVENT
END:VCALENDAR
