BEGIN:VCALENDAR
VERSION:2.0
PRODID:-//Sabre//Sabre VObject 4.5.8//EN
CALSCALE:GREGORIAN
BEGIN:VEVENT
UID:sabre-vobject-98db2555-1f0d-4624-9a93-a1aae09cc47c
DTSTAMP:20260425T122504Z
SUMMARY:Sprechtag Websiteanalyse: Usability und Barrierefreiheit
DESCRIPTION:https://regioningolstadt.com/sprechtag-websiteanalyse-usability
 -und-barrierefreiheit_id38778
DTSTART;TZID=Europe/Berlin:20251027T090000
DTEND;TZID=Europe/Berlin:20251027T160000
LOCATION:Online-Veranstaltung\, \,  
END:VEVENT
END:VCALENDAR
