BEGIN:VCALENDAR
VERSION:2.0
PRODID:-//Sabre//Sabre VObject 4.5.8//EN
CALSCALE:GREGORIAN
BEGIN:VEVENT
UID:sabre-vobject-44fc13b8-dbf2-476c-84b0-6b13a6b9e9e7
DTSTAMP:20260423T210503Z
SUMMARY:Familienfreundlichkeit lohnt sich – Potenziale am Arbeitsmarkt nu
 tzen
DESCRIPTION:https://regioningolstadt.com/familienfreundlichkeit-lohnt-sich-
 potenziale-am-arbeitsmarkt-nutzen_id38759
DTSTART;TZID=Europe/Berlin:20250515T090000
DTEND;TZID=Europe/Berlin:20250515T110000
LOCATION:Handwerkskammer für München und Oberbayern München\, Max-Joseph
 -Str. 4\, 80333 München
END:VEVENT
END:VCALENDAR
