BEGIN:VCALENDAR
VERSION:2.0
PRODID:-//Sabre//Sabre VObject 4.5.8//EN
CALSCALE:GREGORIAN
BEGIN:VEVENT
UID:sabre-vobject-94886de8-2c8b-4e42-bf0f-af602365e12f
DTSTAMP:20260422T173647Z
SUMMARY:Orgelmatinee um Zwölf
DESCRIPTION:https://regioningolstadt.com/orgelmatinee-um-zwoelf_id38758
DTSTART;TZID=Europe/Berlin:20250511T120000
DURATION:PT30M
LOCATION:Asamkirche Maria de Victoria\, Neubaustraße 1 1/2\, 85049 Ingolst
 adt
END:VEVENT
END:VCALENDAR
