BEGIN:VCALENDAR
VERSION:2.0
PRODID:-//Sabre//Sabre VObject 4.5.8//EN
CALSCALE:GREGORIAN
BEGIN:VEVENT
UID:sabre-vobject-b714eb28-1aaf-4b8e-b44b-4a3152d9f9ae
DTSTAMP:20260423T232552Z
SUMMARY:Unser Unternehmen soll digitaler werden – welche Förderung gibt 
 es?
DESCRIPTION:https://regioningolstadt.com/unser-unternehmen-soll-digitaler-w
 erden-welche-foerderung-gibt-es_id38725
DTSTART;TZID=Europe/Berlin:20251112T113000
DTEND;TZID=Europe/Berlin:20251112T130000
LOCATION:Online-Veranstaltung\, \,  
END:VEVENT
END:VCALENDAR
