BEGIN:VCALENDAR
VERSION:2.0
PRODID:-//Sabre//Sabre VObject 4.5.8//EN
CALSCALE:GREGORIAN
BEGIN:VEVENT
UID:sabre-vobject-200bff64-617f-402f-9828-7fa93a6a012f
DTSTAMP:20260423T083907Z
SUMMARY:Radtour nach Rain am Lech
DESCRIPTION:https://regioningolstadt.com/radtour-nach-rain-am-lech_id38718
DTSTART;TZID=Europe/Berlin:20250517T090000
DTEND;TZID=Europe/Berlin:20250517T170000
LOCATION:RADHAUS Ingolstadt\, Bei der Arena 7\, 85053 Ingolstadt
END:VEVENT
END:VCALENDAR
