BEGIN:VCALENDAR
VERSION:2.0
PRODID:-//Sabre//Sabre VObject 4.5.8//EN
CALSCALE:GREGORIAN
BEGIN:VEVENT
UID:sabre-vobject-e882336b-36fe-4b4e-b1d8-9ba54ff6dbe9
DTSTAMP:20260423T145934Z
SUMMARY:Fördermittel kompakt: Einstieg in die Innovationsförderung
DESCRIPTION:https://regioningolstadt.com/foerdermittel-kompakt-einstieg-in-
 die-innovationsfoerderung_id38717
DTSTART;TZID=Europe/Berlin:20250516T150000
DTEND;TZID=Europe/Berlin:20250516T160000
LOCATION:Online-Veranstaltung\, \,  
END:VEVENT
END:VCALENDAR
