BEGIN:VCALENDAR
VERSION:2.0
PRODID:-//Sabre//Sabre VObject 4.5.8//EN
CALSCALE:GREGORIAN
BEGIN:VEVENT
UID:sabre-vobject-05352178-a83a-434c-aba9-a71d8a35fe08
DTSTAMP:20260423T114723Z
SUMMARY:Cyberangriff: Die Krise managen und kommunizieren
DESCRIPTION:https://regioningolstadt.com/cyberangriff-die-krise-managen-und
 -kommunizieren_id38716
DTSTART;TZID=Europe/Berlin:20250514T140000
DTEND;TZID=Europe/Berlin:20250514T150000
LOCATION:Online-Veranstaltung\, \,  
END:VEVENT
END:VCALENDAR
