BEGIN:VCALENDAR
VERSION:2.0
PRODID:-//Sabre//Sabre VObject 4.5.8//EN
CALSCALE:GREGORIAN
BEGIN:VEVENT
UID:sabre-vobject-635c7e6a-3918-4c6f-8349-69ccdc58ba1a
DTSTAMP:20260421T211408Z
SUMMARY:Hofgartenfest
DESCRIPTION:https://regioningolstadt.com/hofgartenfest_id38664
DTSTART;TZID=Europe/Berlin:20260613T150000
DTEND;TZID=Europe/Berlin:20260614T010000
LOCATION:Hofgarten
END:VEVENT
END:VCALENDAR
