BEGIN:VCALENDAR
VERSION:2.0
PRODID:-//Sabre//Sabre VObject 4.5.8//EN
CALSCALE:GREGORIAN
BEGIN:VEVENT
UID:sabre-vobject-44d22c78-7790-4dcc-892d-d08cf5195eee
DTSTAMP:20260420T190356Z
SUMMARY:Schnapfinger und der Bär - Schanzer Krimi Theater
DESCRIPTION:https://regioningolstadt.com/schnapfinger-und-der-baer-schanzer
 -krimi-theater_id38656
DTSTART;TZID=Europe/Berlin:20260308T181500
DTEND;TZID=Europe/Berlin:20260308T213000
LOCATION:Bürgerhaus Neuburger Kasten\, Fechtgasse 6\, 85049 Ingolstadt
END:VEVENT
END:VCALENDAR
