BEGIN:VCALENDAR
VERSION:2.0
PRODID:-//Sabre//Sabre VObject 4.5.8//EN
CALSCALE:GREGORIAN
BEGIN:VEVENT
UID:sabre-vobject-70b46f4d-869f-46a9-9a0a-f6808197fbf9
DTSTAMP:20260421T040203Z
SUMMARY:Schnapfinger und der Bär - Schanzer Krimi Theater
DESCRIPTION:https://regioningolstadt.com/schnapfinger-und-der-baer-schanzer
 -krimi-theater_id38655
DTSTART;TZID=Europe/Berlin:20260208T181500
DTEND;TZID=Europe/Berlin:20260208T213000
LOCATION:Bürgerhaus Neuburger Kasten\, Fechtgasse 6\, 85049 Ingolstadt
END:VEVENT
END:VCALENDAR
