BEGIN:VCALENDAR
VERSION:2.0
PRODID:-//Sabre//Sabre VObject 4.5.8//EN
CALSCALE:GREGORIAN
BEGIN:VEVENT
UID:sabre-vobject-8af77d82-973a-446e-86a0-b4d30052f354
DTSTAMP:20260422T011028Z
SUMMARY:Schnapfinger und der Bär - Schanzer Krimi Theater
DESCRIPTION:https://regioningolstadt.com/schnapfinger-und-der-baer-schanzer
 -krimi-theater_id38653
DTSTART;TZID=Europe/Berlin:20251214T181500
DTEND;TZID=Europe/Berlin:20251214T213000
LOCATION:Bürgerhaus Neuburger Kasten\, Fechtgasse 6\, 85049 Ingolstadt
END:VEVENT
END:VCALENDAR
