BEGIN:VCALENDAR
VERSION:2.0
PRODID:-//Sabre//Sabre VObject 4.5.8//EN
CALSCALE:GREGORIAN
BEGIN:VEVENT
UID:sabre-vobject-3fda60c6-74ab-49fa-a2c8-8b9541b0f7f8
DTSTAMP:20260423T162237Z
SUMMARY:Bürgersprechstunde Mediation
DESCRIPTION:https://regioningolstadt.com/buergersprechstunde-mediation_id38
 645
DTSTART;TZID=Europe/Berlin:20250514T180000
DTEND;TZID=Europe/Berlin:20250514T190000
LOCATION:Bürgerhaus Diagonal\, Kreuzstraße 12\, 85049 Ingolstadt
END:VEVENT
END:VCALENDAR
