BEGIN:VCALENDAR
VERSION:2.0
PRODID:-//Sabre//Sabre VObject 4.5.8//EN
CALSCALE:GREGORIAN
BEGIN:VEVENT
UID:sabre-vobject-a2f51611-051e-40d5-8b84-8084e0e314d6
DTSTAMP:20260423T132035Z
SUMMARY:IHK Selbstständigen-Tag
DESCRIPTION:https://regioningolstadt.com/ihk-selbststaendigen-tag_id38643
DTSTART;TZID=Europe/Berlin:20250514T160000
DTEND;TZID=Europe/Berlin:20250514T190000
LOCATION:IHK München und Oberbayern\, Max-Joseph-Straße 2\, 80333 Münche
 n
END:VEVENT
END:VCALENDAR
