BEGIN:VCALENDAR
VERSION:2.0
PRODID:-//Sabre//Sabre VObject 4.5.8//EN
CALSCALE:GREGORIAN
BEGIN:VEVENT
UID:sabre-vobject-a31afd64-5289-402e-a594-303bbe882585
DTSTAMP:20260422T125704Z
SUMMARY:„Discu:theque“ – Wo Musik auf Geschichten trifft
DESCRIPTION:https://regioningolstadt.com/discu-theque-wo-musik-auf-geschich
 ten-trifft_id38642
DTSTART;TZID=Europe/Berlin:20250510T200000
DURATION:PT30M
LOCATION:Neue Welt\, Griesbadgasse 7\, 85049 Ingolstadt
END:VEVENT
END:VCALENDAR
