BEGIN:VCALENDAR
VERSION:2.0
PRODID:-//Sabre//Sabre VObject 4.5.8//EN
CALSCALE:GREGORIAN
BEGIN:VEVENT
UID:sabre-vobject-58a408f4-87f1-49f4-9493-a604249bb8f3
DTSTAMP:20260420T075614Z
SUMMARY:BARING FEIERT | 550 Jahre der Vereine
DESCRIPTION:https://regioningolstadt.com/baring-feiert-550-jahre-der-verein
 e_id38637
DTSTART;TZID=Europe/Berlin:20260906T173000
DURATION:PT30M
LOCATION:Bergen
END:VEVENT
END:VCALENDAR
