BEGIN:VCALENDAR
VERSION:2.0
PRODID:-//Sabre//Sabre VObject 4.5.8//EN
CALSCALE:GREGORIAN
BEGIN:VEVENT
UID:sabre-vobject-ed315a2a-f4b6-4169-9fe0-31e8a70e280e
DTSTAMP:20260420T075714Z
SUMMARY:BARING FEIERT | 550 Jahre der Vereine
DESCRIPTION:https://regioningolstadt.com/baring-feiert-550-jahre-der-verein
 e_id38636
DTSTART;TZID=Europe/Berlin:20260905T173000
DURATION:PT30M
LOCATION:Bergen
END:VEVENT
END:VCALENDAR
