BEGIN:VCALENDAR
VERSION:2.0
PRODID:-//Sabre//Sabre VObject 4.5.8//EN
CALSCALE:GREGORIAN
BEGIN:VEVENT
UID:sabre-vobject-07cd38c6-5dda-4f61-83bf-30edf4e95b1b
DTSTAMP:20260420T112254Z
SUMMARY:BARING FEIERT | 550 Jahre der Vereine
DESCRIPTION:https://regioningolstadt.com/baring-feiert-550-jahre-der-verein
 e_id38634
DTSTART;TZID=Europe/Berlin:20260904T173000
DURATION:PT30M
LOCATION:Bergen
END:VEVENT
END:VCALENDAR
