BEGIN:VCALENDAR
VERSION:2.0
PRODID:-//Sabre//Sabre VObject 4.5.8//EN
CALSCALE:GREGORIAN
BEGIN:VEVENT
UID:sabre-vobject-60ccadd0-ad02-4219-b8be-05cf50493300
DTSTAMP:20260423T193042Z
SUMMARY:Wissenschaftskino: "Eternal You  Vom Ende der Endlichkeit"
DESCRIPTION:https://regioningolstadt.com/wissenschaftskino-eternal-you-vom-
 ende-der-endlichkeit_id38602
DTSTART;TZID=Europe/Berlin:20250515T200000
DTEND;TZID=Europe/Berlin:20250515T223000
LOCATION:Programmkino Audi Forum Ingolstadt\, Ettinger Straße \, 85057 Ing
 olstadt
END:VEVENT
END:VCALENDAR
