BEGIN:VCALENDAR
VERSION:2.0
PRODID:-//Sabre//Sabre VObject 4.5.8//EN
CALSCALE:GREGORIAN
BEGIN:VEVENT
UID:sabre-vobject-e275fd50-40fe-446b-a568-f3ba721f6262
DTSTAMP:20260419T203900Z
SUMMARY:The Magic Night of  Dance Musicals
DESCRIPTION:https://regioningolstadt.com/the-magic-night-of-dance-musicals_
 id38562
DTSTART;TZID=Europe/Berlin:20260424T200000
DTEND;TZID=Europe/Berlin:20260424T223000
LOCATION:Altstadt Ingolstadt\, \,  
END:VEVENT
END:VCALENDAR
