BEGIN:VCALENDAR
VERSION:2.0
PRODID:-//Sabre//Sabre VObject 4.5.8//EN
CALSCALE:GREGORIAN
BEGIN:VEVENT
UID:sabre-vobject-98c196fd-f889-4c80-9d56-379b075472cf
DTSTAMP:20260420T125130Z
SUMMARY:ABBA The Concert
DESCRIPTION:https://regioningolstadt.com/abba-the-concert_id38561
DTSTART;TZID=Europe/Berlin:20260328T200000
DTEND;TZID=Europe/Berlin:20260328T223000
LOCATION:Altstadt Ingolstadt\, \,  
END:VEVENT
END:VCALENDAR
