BEGIN:VCALENDAR
VERSION:2.0
PRODID:-//Sabre//Sabre VObject 4.5.8//EN
CALSCALE:GREGORIAN
BEGIN:VEVENT
UID:sabre-vobject-03b3e1cb-649f-4a5c-801f-dac8beac18fe
DTSTAMP:20260420T220841Z
SUMMARY:BELIEVE  The Tribute To The Life And Music Of Cher
DESCRIPTION:https://regioningolstadt.com/believe-the-tribute-to-the-life-an
 d-music-of-cher_id38560
DTSTART;TZID=Europe/Berlin:20260227T200000
DTEND;TZID=Europe/Berlin:20260227T223000
LOCATION:Altstadt Ingolstadt\, \,  
END:VEVENT
END:VCALENDAR
