BEGIN:VCALENDAR
VERSION:2.0
PRODID:-//Sabre//Sabre VObject 4.5.8//EN
CALSCALE:GREGORIAN
BEGIN:VEVENT
UID:sabre-vobject-570f94d5-74f4-4d05-b32f-bb8375875043
DTSTAMP:20260426T022551Z
SUMMARY:Rock The Circus
DESCRIPTION:https://regioningolstadt.com/rock-the-circus_id38559
DTSTART;TZID=Europe/Berlin:20251021T190000
DTEND;TZID=Europe/Berlin:20251021T213000
LOCATION:Altstadt Ingolstadt\, \,  
END:VEVENT
END:VCALENDAR
