BEGIN:VCALENDAR
VERSION:2.0
PRODID:-//Sabre//Sabre VObject 4.5.8//EN
CALSCALE:GREGORIAN
BEGIN:VEVENT
UID:sabre-vobject-59564e78-9000-4c6b-a4d0-11acc25fb60f
DTSTAMP:20260419T150744Z
SUMMARY:Ceren Oran & Moving Borders „Spiel im Spiel“ - Familienvorstell
 ung – Ein Tanzstück für alle ab 3 Jahren
DESCRIPTION:https://regioningolstadt.com/ceren-oran-moving-borders-spiel-im
 -spiel-familienvorstellung-ein-tanzstueck-fuer-alle-ab-3-jahren_id38540
DTSTART;TZID=Europe/Berlin:20250518T150000
DURATION:PT30M
LOCATION:Kulturzentrum neun\, Elisabethstraße 9 a\, 85051 Ingolstadt
END:VEVENT
END:VCALENDAR
