BEGIN:VCALENDAR
VERSION:2.0
PRODID:-//Sabre//Sabre VObject 4.5.8//EN
CALSCALE:GREGORIAN
BEGIN:VEVENT
UID:sabre-vobject-371b9ec9-cc71-484c-857f-a66cb885f7b9
DTSTAMP:20260419T182217Z
SUMMARY:Ausstellung der Kunst-Werk-Mitglieder "Urlaubs-Impressionen"
DESCRIPTION:https://regioningolstadt.com/ausstellung-der-kunst-werk-mitglie
 der-urlaubs-impressionen_id38539
DTSTART;TZID=Europe/Berlin:20250518T140000
DTEND;TZID=Europe/Berlin:20250601T170000
LOCATION:Kunst-Werk im Klenzepark e.V.\, Flankenbatterie 105\, 85051 Ingols
 tadt
END:VEVENT
END:VCALENDAR
