BEGIN:VCALENDAR
VERSION:2.0
PRODID:-//Sabre//Sabre VObject 4.5.8//EN
CALSCALE:GREGORIAN
BEGIN:VEVENT
UID:sabre-vobject-aac6ad36-dac5-45ad-b704-c09f43864940
DTSTAMP:20260420T005045Z
SUMMARY:2-tägiger Workshop „Poesie des Körpers“ mit Cintia Napoli
DESCRIPTION:https://regioningolstadt.com/2-taegiger-workshop-poesie-des-koe
 rpers-mit-cintia-napoli_id38538
DTSTART;TZID=Europe/Berlin:20250518T110000
DTEND;TZID=Europe/Berlin:20250518T143000
LOCATION:Theater am Glacis\, Jahnstraße 9\, 85049 Ingolstadt\, \,  
END:VEVENT
END:VCALENDAR
