BEGIN:VCALENDAR
VERSION:2.0
PRODID:-//Sabre//Sabre VObject 4.5.8//EN
CALSCALE:GREGORIAN
BEGIN:VEVENT
UID:sabre-vobject-190a3ef9-41c8-494a-b1fa-89a6cbc15b5b
DTSTAMP:20260420T054925Z
SUMMARY:1-tägiger Workshop „Splash and Fly“ mit Segni Mossi
DESCRIPTION:https://regioningolstadt.com/1-taegiger-workshop-splash-and-fly
 -mit-segni-mossi_id38537
DTSTART;TZID=Europe/Berlin:20250518T100000
DTEND;TZID=Europe/Berlin:20250518T130000
LOCATION:Kulturhalle P3\, Peisserstraße 3\, 85053 Ingolstadt
END:VEVENT
END:VCALENDAR
