BEGIN:VCALENDAR
VERSION:2.0
PRODID:-//Sabre//Sabre VObject 4.5.8//EN
CALSCALE:GREGORIAN
BEGIN:VEVENT
UID:sabre-vobject-f5a816ff-ad07-4de8-969d-37d64fb35257
DTSTAMP:20260420T072859Z
SUMMARY:Eröffnung – De Dansers - Ein Tanzkonzert als Storyteller – üb
 er die Kraft des Miteinanders
DESCRIPTION:https://regioningolstadt.com/eroeffnung-de-dansers-ein-tanzkonz
 ert-als-storyteller-ueber-die-kraft-des-miteinanders_id38536
DTSTART;TZID=Europe/Berlin:20250517T200000
DURATION:PT30M
LOCATION:Theater am Glacis\, Jahnstraße 9\, 85049 Ingolstadt\, \,  
END:VEVENT
END:VCALENDAR
